BEGIN:VCALENDAR
VERSION:2.0
PRODID:-//Paroisse Saint-Paul Coeur d&#039;Hérault - ECPv6.7.1//NONSGML v1.0//EN
CALSCALE:GREGORIAN
METHOD:PUBLISH
X-WR-CALNAME:Paroisse Saint-Paul Coeur d&#039;Hérault
X-ORIGINAL-URL:https://saintpaulcoeurdherault34.catholique.fr
X-WR-CALDESC:Évènements pour Paroisse Saint-Paul Coeur d&#039;Hérault
REFRESH-INTERVAL;VALUE=DURATION:PT1H
X-Robots-Tag:noindex
X-PUBLISHED-TTL:PT1H
BEGIN:VTIMEZONE
TZID:Europe/Paris
BEGIN:DAYLIGHT
TZOFFSETFROM:+0100
TZOFFSETTO:+0200
TZNAME:CEST
DTSTART:20240331T010000
END:DAYLIGHT
BEGIN:STANDARD
TZOFFSETFROM:+0200
TZOFFSETTO:+0100
TZNAME:CET
DTSTART:20241027T010000
END:STANDARD
END:VTIMEZONE
BEGIN:VEVENT
DTSTART;TZID=Europe/Paris:20241111T073000
DTEND;TZID=Europe/Paris:20241111T203000
DTSTAMP:20260423T071009
CREATED:20241030T164714Z
LAST-MODIFIED:20241106T100902Z
UID:634-1731310200-1731357000@saintpaulcoeurdherault34.catholique.fr
SUMMARY:Pèlerinage à Saint-Guilhem-le-Désert
DESCRIPTION:« Ceux qui espèrent dans le Seigneur\, marchent sans se fatiguer » — Isaïe 40\,31 \nRendez-vous le 11 novembre 2024 pour notre traditionnel pèlerinage ! Une journée de spiritualité\, de partage et de prière dans le magnifique cadre de Saint-Guilhem-le-Désert. \n📍 Informations pratiques :\n• RDV à 7h30 à la paroisse Sainte-Bernadette (Montpellier)\n• Départ en bus à 8h00\n• Retour prévu à 20h30 \n💰 Tarifs :\n• Étudiants : 8€\n• Jeunes pros : 10€\n• Bus : +8€ \n🎒 À prévoir :\n• Pique-nique\n• Eau\n• Éco-cup\n• Chaussures de marche\n• K-way\n• Et votre bonne humeur ! 😊 \n✅ Inscription obligatoire :\n• Via le formulaire en ligne : Cliquez ici\n• Option covoiturage : Cliquez ici \nPour toute information :\n📧 pastoraleetudiante@diocese34.fr\n📱 06.80.64.47.48\n📸 Instagram : @etudiantscathosdemontpellier
URL:https://saintpaulcoeurdherault34.catholique.fr/event/pelerinage-a-saint-guilhem-le-desert/
LOCATION:Saint-Guilhem-le-Désert\, Saint-Guilhem-le-Désert\, France
CATEGORIES:Pèlerinages
ATTACH;FMTTYPE=image/png:https://saintpaulcoeurdherault34.catholique.fr/wp-content/uploads/2024/10/Pelerinage-11-novembre-2024-1.png
ORGANIZER;CN="Pastorale %C3%A9tudiante et jeunes pros":MAILTO:pastoraleetudiante@diocese34.fr
END:VEVENT
END:VCALENDAR